BEGIN:VCALENDAR
VERSION:2.0
PRODID:-//Business Magazine - ECPv6.5.0//NONSGML v1.0//EN
CALSCALE:GREGORIAN
METHOD:PUBLISH
X-WR-CALNAME:Business Magazine
X-ORIGINAL-URL:https://www.sv-seulingen.de
X-WR-CALDESC:Veranstaltungen für Business Magazine
REFRESH-INTERVAL;VALUE=DURATION:PT1H
X-Robots-Tag:noindex
X-PUBLISHED-TTL:PT1H
BEGIN:VTIMEZONE
TZID:Europe/Berlin
BEGIN:DAYLIGHT
TZOFFSETFROM:+0100
TZOFFSETTO:+0200
TZNAME:CEST
DTSTART:20260329T010000
END:DAYLIGHT
BEGIN:STANDARD
TZOFFSETFROM:+0200
TZOFFSETTO:+0100
TZNAME:CET
DTSTART:20261025T010000
END:STANDARD
END:VTIMEZONE
BEGIN:VEVENT
DTSTART;TZID=Europe/Berlin:20260613T090000
DTEND;TZID=Europe/Berlin:20260613T090000
DTSTAMP:20260420T183453
CREATED:20250330T131823Z
LAST-MODIFIED:20260419T090359Z
UID:3312-1781341200-1781341200@www.sv-seulingen.de
SUMMARY:Arbeitseinsatz am Festplatz / Schützenhaus
DESCRIPTION:
URL:https://www.sv-seulingen.de/event/arbeitseinsatz-am-festplatz-schuetzenhaus/
LOCATION:Schützenhaus Seulingen\, Zum Weidental 3\, Seulingen\, 37136
END:VEVENT
END:VCALENDAR