BEGIN:VCALENDAR
VERSION:2.0
PRODID:-//Business Magazine - ECPv6.5.0//NONSGML v1.0//EN
CALSCALE:GREGORIAN
METHOD:PUBLISH
X-ORIGINAL-URL:https://www.sv-seulingen.de
X-WR-CALDESC:Veranstaltungen für Business Magazine
REFRESH-INTERVAL;VALUE=DURATION:PT1H
X-Robots-Tag:noindex
X-PUBLISHED-TTL:PT1H
BEGIN:VTIMEZONE
TZID:Europe/Berlin
BEGIN:DAYLIGHT
TZOFFSETFROM:+0100
TZOFFSETTO:+0200
TZNAME:CEST
DTSTART:20260329T010000
END:DAYLIGHT
BEGIN:STANDARD
TZOFFSETFROM:+0200
TZOFFSETTO:+0100
TZNAME:CET
DTSTART:20261025T010000
END:STANDARD
END:VTIMEZONE
BEGIN:VEVENT
DTSTART;VALUE=DATE:20260901
DTEND;VALUE=DATE:20261201
DTSTAMP:20260420T153935
CREATED:20250330T133653Z
LAST-MODIFIED:20260419T091510Z
UID:3336-1788220800-1796083199@www.sv-seulingen.de
SUMMARY:Bedingungsschießen Herbst 2026 (2 Bedinungen)
DESCRIPTION:
URL:https://www.sv-seulingen.de/event/bedingungsschiessen-herbst-2025/
LOCATION:Schützenhaus Seulingen\, Zum Weidental 3\, Seulingen\, 37136
END:VEVENT
END:VCALENDAR