BEGIN:VCALENDAR
VERSION:2.0
PRODID:-//Business Magazine - ECPv6.5.0//NONSGML v1.0//EN
CALSCALE:GREGORIAN
METHOD:PUBLISH
X-WR-CALNAME:Business Magazine
X-ORIGINAL-URL:https://www.sv-seulingen.de
X-WR-CALDESC:Veranstaltungen für Business Magazine
REFRESH-INTERVAL;VALUE=DURATION:PT1H
X-Robots-Tag:noindex
X-PUBLISHED-TTL:PT1H
BEGIN:VTIMEZONE
TZID:Europe/Berlin
BEGIN:DAYLIGHT
TZOFFSETFROM:+0100
TZOFFSETTO:+0200
TZNAME:CEST
DTSTART:20220327T010000
END:DAYLIGHT
BEGIN:STANDARD
TZOFFSETFROM:+0200
TZOFFSETTO:+0100
TZNAME:CET
DTSTART:20221030T010000
END:STANDARD
BEGIN:DAYLIGHT
TZOFFSETFROM:+0100
TZOFFSETTO:+0200
TZNAME:CEST
DTSTART:20230326T010000
END:DAYLIGHT
BEGIN:STANDARD
TZOFFSETFROM:+0200
TZOFFSETTO:+0100
TZNAME:CET
DTSTART:20231029T010000
END:STANDARD
BEGIN:DAYLIGHT
TZOFFSETFROM:+0100
TZOFFSETTO:+0200
TZNAME:CEST
DTSTART:20240331T010000
END:DAYLIGHT
BEGIN:STANDARD
TZOFFSETFROM:+0200
TZOFFSETTO:+0100
TZNAME:CET
DTSTART:20241027T010000
END:STANDARD
BEGIN:DAYLIGHT
TZOFFSETFROM:+0100
TZOFFSETTO:+0200
TZNAME:CEST
DTSTART:20250330T010000
END:DAYLIGHT
BEGIN:STANDARD
TZOFFSETFROM:+0200
TZOFFSETTO:+0100
TZNAME:CET
DTSTART:20251026T010000
END:STANDARD
BEGIN:DAYLIGHT
TZOFFSETFROM:+0100
TZOFFSETTO:+0200
TZNAME:CEST
DTSTART:20260329T010000
END:DAYLIGHT
BEGIN:STANDARD
TZOFFSETFROM:+0200
TZOFFSETTO:+0100
TZNAME:CET
DTSTART:20261025T010000
END:STANDARD
END:VTIMEZONE
BEGIN:VEVENT
DTSTART;TZID=Europe/Berlin:20260926T190000
DTEND;TZID=Europe/Berlin:20260926T190000
DTSTAMP:20260420T100741
CREATED:20250330T134012Z
LAST-MODIFIED:20260419T091221Z
UID:3342-1790449200-1790449200@www.sv-seulingen.de
SUMMARY:Eichsfeld-Schützenball in Kefferhausen
DESCRIPTION:
URL:https://www.sv-seulingen.de/event/schuetzen-wallfahrt-vom-eichsfeldverband-in-worbis-2/
END:VEVENT
BEGIN:VEVENT
DTSTART;TZID=Europe/Berlin:20250417T160000
DTEND;TZID=Europe/Berlin:20250417T235500
DTSTAMP:20260420T100741
CREATED:20250330T131432Z
LAST-MODIFIED:20250330T131432Z
UID:3310-1744905600-1744934100@www.sv-seulingen.de
SUMMARY:Gemütliches Gründonnerstags-Schießen & Schießen auf die 1050er-Jubiläums-Scheibe*
DESCRIPTION:*1050er-Jubiläums-Scheibe: Für alle Einwohner Seulingens\, 2€ Startgeld\, 1x Stechschuss & 3x Wertungsschuss / Proklamation am Schützenfest-Sonntag
URL:https://www.sv-seulingen.de/event/gemuetliches-gruendonnerstags-schiessen-schiessen-auf-die-1050er-jubilaeums-scheibe/
LOCATION:Schützenhaus Seulingen\, Zum Weidental 3\, Seulingen\, 37136
END:VEVENT
BEGIN:VEVENT
DTSTART;TZID=Europe/Berlin:20250118T193000
DTEND;TZID=Europe/Berlin:20250119T040000
DTSTAMP:20260420T100741
CREATED:20250105T161429Z
LAST-MODIFIED:20250105T162215Z
UID:3270-1737228600-1737259200@www.sv-seulingen.de
SUMMARY:Schützenball 2025 im Bürgerhaus
DESCRIPTION:Alle Mitglieder und Freunde des Schützenverein Seulingen sind ab 19:30 Uhr herzlich zu unserem alljährlichen Ball im Bürgerhaus Seulingen eingeladen!\n\n20:00 Uhr – Begrüßung & Proklamation der Vereinsmeister sowie Pokalsieger\nab ca. 20:30 Uhr – Beste musikalische Unterhaltung durch die EIC3 – Partyband!\nab ca. 23:00 Uhr – Spannende Tombola mit großartigen Preisen!\n\nUnd wie immer „Eintritt frei!“\nWir freuen uns euch zum Schützenball mit ganz besonderen Köstlichkeiten versorgen zu dürfen – bitte auf die Vorbestellung achten!
URL:https://www.sv-seulingen.de/event/schuetzenball-2025-im-buergerhaus-2/
LOCATION:Bürgerhaus Seulingen\, Neue Straße 5\, Seulingen\, 37136\, Germany
END:VEVENT
BEGIN:VEVENT
DTSTART;VALUE=DATE:20240622
DTEND;VALUE=DATE:20240625
DTSTAMP:20260420T100741
CREATED:20240525T085809Z
LAST-MODIFIED:20240525T090359Z
UID:3182-1719014400-1719273599@www.sv-seulingen.de
SUMMARY:Schützenfest 2024
DESCRIPTION:https://www.sv-seulingen.de/schuetzenfest/ \n 
URL:https://www.sv-seulingen.de/event/schuetzenfest-2024/
LOCATION:Schützenfest Seulingen\, Zum Weidental 3\, 37136 Seulingen\, 37136\, Deutschland
END:VEVENT
BEGIN:VEVENT
DTSTART;VALUE=DATE:20230624
DTEND;VALUE=DATE:20230627
DTSTAMP:20260420T100741
CREATED:20230531T202702Z
LAST-MODIFIED:20230531T202702Z
UID:3067-1687564800-1687823999@www.sv-seulingen.de
SUMMARY:Schützenfest 2023
DESCRIPTION:https://www.sv-seulingen.de/schuetzenfest/ \n 
URL:https://www.sv-seulingen.de/event/schuetzenfest-2023/
LOCATION:Schützenfest Seulingen\, Zum Weidental 3\, 37136 Seulingen\, 37136\, Deutschland
END:VEVENT
BEGIN:VEVENT
DTSTART;TZID=Europe/Berlin:20230121T173000
DTEND;TZID=Europe/Berlin:20230121T235900
DTSTAMP:20260420T100741
CREATED:20221230T082438Z
LAST-MODIFIED:20221230T082438Z
UID:2999-1674322200-1674345540@www.sv-seulingen.de
SUMMARY:Schützenball 2023 im Bürgerhaus
DESCRIPTION:
URL:https://www.sv-seulingen.de/event/schuetzenball-2023-im-buergerhaus/
END:VEVENT
BEGIN:VEVENT
DTSTART;VALUE=DATE:20221201
DTEND;VALUE=DATE:20221202
DTSTAMP:20260420T100741
CREATED:20220211T123716Z
LAST-MODIFIED:20220211T123716Z
UID:2416-1669852800-1669939199@www.sv-seulingen.de
SUMMARY:Weihnachtsfeier im Schützenhaus (Termin folgt)
DESCRIPTION:
URL:https://www.sv-seulingen.de/event/weihnachtsfeier-im-schuetzenhaus-termin-folgt/
END:VEVENT
BEGIN:VEVENT
DTSTART;VALUE=DATE:20221015
DTEND;VALUE=DATE:20221016
DTSTAMP:20260420T100741
CREATED:20220211T123656Z
LAST-MODIFIED:20220211T123656Z
UID:2414-1665792000-1665878399@www.sv-seulingen.de
SUMMARY:KSV Südharzball im Seulinger Bürgerhaus
DESCRIPTION:
URL:https://www.sv-seulingen.de/event/ksv-suedharzball-im-seulinger-buergerhaus/
END:VEVENT
BEGIN:VEVENT
DTSTART;VALUE=DATE:20220923
DTEND;VALUE=DATE:20220926
DTSTAMP:20260420T100741
CREATED:20220211T123627Z
LAST-MODIFIED:20220211T123627Z
UID:2412-1663891200-1664150399@www.sv-seulingen.de
SUMMARY:Möglicher Termin der Vereinsfahrt 2022 (Informationen folgen)
DESCRIPTION:
URL:https://www.sv-seulingen.de/event/moeglicher-termin-der-vereinsfahrt-2022-informationen-folgen/
END:VEVENT
BEGIN:VEVENT
DTSTART;VALUE=DATE:20220911
DTEND;VALUE=DATE:20220912
DTSTAMP:20260420T100741
CREATED:20220211T123559Z
LAST-MODIFIED:20220211T123559Z
UID:2410-1662854400-1662940799@www.sv-seulingen.de
SUMMARY:Damen-Herbstveranstaltung des KSV in Seulingen
DESCRIPTION:
URL:https://www.sv-seulingen.de/event/damen-herbstveranstaltung-des-ksv-in-seulingen/
END:VEVENT
BEGIN:VEVENT
DTSTART;VALUE=DATE:20220901
DTEND;VALUE=DATE:20221102
DTSTAMP:20260420T100741
CREATED:20220211T123529Z
LAST-MODIFIED:20220211T123529Z
UID:2408-1661990400-1667347199@www.sv-seulingen.de
SUMMARY:Bedingungsschießen Herbst 2022 und Vereins- & Pokalmeisterschaften (Termine folgen)
DESCRIPTION:
URL:https://www.sv-seulingen.de/event/bedingungsschiessen-herbst-2022-und-vereins-pokalmeisterschaften-termine-folgen/
END:VEVENT
BEGIN:VEVENT
DTSTART;VALUE=DATE:20220618
DTEND;VALUE=DATE:20220621
DTSTAMP:20260420T100741
CREATED:20220211T123443Z
LAST-MODIFIED:20220211T123443Z
UID:2406-1655510400-1655769599@www.sv-seulingen.de
SUMMARY:Schützenfest 2022
DESCRIPTION:
URL:https://www.sv-seulingen.de/event/schuetzenfest-2022/
END:VEVENT
BEGIN:VEVENT
DTSTART;VALUE=DATE:20220530
DTEND;VALUE=DATE:20220605
DTSTAMP:20260420T100741
CREATED:20220211T123329Z
LAST-MODIFIED:20220211T123329Z
UID:2402-1653868800-1654387199@www.sv-seulingen.de
SUMMARY:Pokalschießen der örtlichen Vereine
DESCRIPTION:
URL:https://www.sv-seulingen.de/event/pokalschiessen-der-oertlichen-vereine/
END:VEVENT
BEGIN:VEVENT
DTSTART;VALUE=DATE:20220528
DTEND;VALUE=DATE:20220529
DTSTAMP:20260420T100741
CREATED:20220209T140145Z
LAST-MODIFIED:20220306T085221Z
UID:2329-1653696000-1653782399@www.sv-seulingen.de
SUMMARY:Feier zum 50-jährigen Damenjubiläum inkl. Pokal-übergabe im Schützenhaus
DESCRIPTION:
URL:https://www.sv-seulingen.de/event/feier-zum-50-jaehrigen-damenjubilaeum-inkl-pokal-uebergabe-im-schuetzenhaus/
END:VEVENT
BEGIN:VEVENT
DTSTART;VALUE=DATE:20220328
DTEND;VALUE=DATE:20220402
DTSTAMP:20260420T100741
CREATED:20220204T143516Z
LAST-MODIFIED:20220211T124328Z
UID:2278-1648425600-1648857599@www.sv-seulingen.de
SUMMARY:Pokalschießen mit befreundeten Vereinen anlässlich des 50-jährigen Damenjubiläums (genaue Terminierung folgt)
DESCRIPTION:
URL:https://www.sv-seulingen.de/event/pokalschiessen-mit-befreundeten-vereinen-anlaesslich-des-50-jaehrigen-damenjubilaeums-genaue-terminierung-folgt-2/
ATTACH;FMTTYPE=image/jpeg:https://www.sv-seulingen.de/wp-content/uploads/2022/02/29.05.2022.jpg
END:VEVENT
BEGIN:VEVENT
DTSTART;TZID=Europe/Berlin:20220320T103000
DTEND;TZID=Europe/Berlin:20220320T140000
DTSTAMP:20260420T100741
CREATED:20220204T143402Z
LAST-MODIFIED:20220226T171234Z
UID:2274-1647772200-1647784800@www.sv-seulingen.de
SUMMARY:Treffen der Schützendamen am Schützenhaus für das Jubiläumsfoto
DESCRIPTION:
URL:https://www.sv-seulingen.de/event/treffen-der-schuetzendamen-am-schuetzenhaus-fuer-das-jubilaeumsfoto/
ATTACH;FMTTYPE=image/jpeg:https://www.sv-seulingen.de/wp-content/uploads/2022/02/20.03.22.jpg
END:VEVENT
BEGIN:VEVENT
DTSTART;TZID=Europe/Berlin:20220311T200000
DTEND;TZID=Europe/Berlin:20220311T200000
DTSTAMP:20260420T100741
CREATED:20220204T143324Z
LAST-MODIFIED:20220211T124206Z
UID:2272-1647028800-1647028800@www.sv-seulingen.de
SUMMARY:Generalversammlung 2022
DESCRIPTION:
URL:https://www.sv-seulingen.de/event/generalversammlung-2022/
ATTACH;FMTTYPE=image/jpeg:https://www.sv-seulingen.de/wp-content/uploads/2022/02/11.03.2022.jpg
END:VEVENT
BEGIN:VEVENT
DTSTART;VALUE=DATE:20220301
DTEND;VALUE=DATE:20220402
DTSTAMP:20260420T100741
CREATED:20220204T143212Z
LAST-MODIFIED:20220211T124123Z
UID:2270-1646092800-1648857599@www.sv-seulingen.de
SUMMARY:Bedingungsschießen Frühjahr 2022
DESCRIPTION:(Termine lt. Rundschreiben)
URL:https://www.sv-seulingen.de/event/bedingungsschiessen-fruehjahr-2022/
ATTACH;FMTTYPE=image/jpeg:https://www.sv-seulingen.de/wp-content/uploads/2022/02/01.03.22-News-Bedingungsschiessen.jpg
END:VEVENT
END:VCALENDAR