BEGIN:VCALENDAR
VERSION:2.0
PRODID:-//Business Magazine - ECPv6.5.0//NONSGML v1.0//EN
CALSCALE:GREGORIAN
METHOD:PUBLISH
X-WR-CALNAME:Business Magazine
X-ORIGINAL-URL:https://www.sv-seulingen.de
X-WR-CALDESC:Veranstaltungen für Business Magazine
REFRESH-INTERVAL;VALUE=DURATION:PT1H
X-Robots-Tag:noindex
X-PUBLISHED-TTL:PT1H
BEGIN:VTIMEZONE
TZID:Europe/Berlin
BEGIN:DAYLIGHT
TZOFFSETFROM:+0100
TZOFFSETTO:+0200
TZNAME:CEST
DTSTART:20260329T010000
END:DAYLIGHT
BEGIN:STANDARD
TZOFFSETFROM:+0200
TZOFFSETTO:+0100
TZNAME:CET
DTSTART:20261025T010000
END:STANDARD
END:VTIMEZONE
BEGIN:VEVENT
DTSTART;TZID=Europe/Berlin:20260926T190000
DTEND;TZID=Europe/Berlin:20260926T190000
DTSTAMP:20260424T112554
CREATED:20250330T134012Z
LAST-MODIFIED:20260419T091221Z
UID:3342-1790449200-1790449200@www.sv-seulingen.de
SUMMARY:Eichsfeld-Schützenball in Kefferhausen
DESCRIPTION:
URL:https://www.sv-seulingen.de/event/schuetzen-wallfahrt-vom-eichsfeldverband-in-worbis-2/
END:VEVENT
END:VCALENDAR