BEGIN:VCALENDAR
VERSION:2.0
PRODID:-//Business Magazine - ECPv6.5.0//NONSGML v1.0//EN
CALSCALE:GREGORIAN
METHOD:PUBLISH
X-ORIGINAL-URL:https://www.sv-seulingen.de
X-WR-CALDESC:Veranstaltungen für Business Magazine
REFRESH-INTERVAL;VALUE=DURATION:PT1H
X-Robots-Tag:noindex
X-PUBLISHED-TTL:PT1H
BEGIN:VTIMEZONE
TZID:Europe/Berlin
BEGIN:DAYLIGHT
TZOFFSETFROM:+0100
TZOFFSETTO:+0200
TZNAME:CEST
DTSTART:20260329T010000
END:DAYLIGHT
BEGIN:STANDARD
TZOFFSETFROM:+0200
TZOFFSETTO:+0100
TZNAME:CET
DTSTART:20261025T010000
END:STANDARD
END:VTIMEZONE
BEGIN:VEVENT
DTSTART;TZID=Europe/Berlin:20261203T193000
DTEND;TZID=Europe/Berlin:20261203T193000
DTSTAMP:20260422T144634
CREATED:20260419T093057Z
LAST-MODIFIED:20260419T093057Z
UID:3408-1796326200-1796326200@www.sv-seulingen.de
SUMMARY:Weihnachtsfeier der Schützendamen
DESCRIPTION:
URL:https://www.sv-seulingen.de/event/weihnachtsfeier-der-schuetzendamen/
LOCATION:Schützenhaus Seulingen\, Zum Weidental 3\, Seulingen\, 37136
END:VEVENT
END:VCALENDAR